BEGIN:VCALENDAR
VERSION:2.0
PRODID:-//XNoise.lt - ECPv6.2.0.1//NONSGML v1.0//EN
CALSCALE:GREGORIAN
METHOD:PUBLISH
X-WR-CALNAME:XNoise.lt
X-ORIGINAL-URL:http://xnoise.lt
X-WR-CALDESC:Events for XNoise.lt
REFRESH-INTERVAL;VALUE=DURATION:PT1H
X-Robots-Tag:noindex
X-PUBLISHED-TTL:PT1H
BEGIN:VTIMEZONE
TZID:Europe/Vilnius
BEGIN:DAYLIGHT
TZOFFSETFROM:+0200
TZOFFSETTO:+0300
TZNAME:EEST
DTSTART:20220327T010000
END:DAYLIGHT
BEGIN:STANDARD
TZOFFSETFROM:+0300
TZOFFSETTO:+0200
TZNAME:EET
DTSTART:20221030T010000
END:STANDARD
END:VTIMEZONE
BEGIN:VEVENT
DTSTART;VALUE=DATE:20220821
DTEND;VALUE=DATE:20220825
DTSTAMP:20260424T073123
CREATED:20211005T115145Z
LAST-MODIFIED:20230419T134857Z
UID:1776-1661040000-1661385599@xnoise.lt
SUMMARY:Inter-noise 2022. International Congress and Exposition on Noise Control Engineering.
DESCRIPTION:The 51st International Congress and Exposition on Noise Control Engineering (INTER-NOISE 2022) will be held in Glasgow\, UK August 21-24\, 2022 at the Scottish Event Campus (SEC). \nThe theme of the congress – Noise Control in a More Sustainable Future. \nKey dates\n\n\n\n1 December 2021\nCall for abstracts\n\n\n1 December 2021\nRegistration opens\n\n\n4 February 2022\nAbstract submission deadline\n\n\n4 March 2022\nAbstract Notification\n\n\n4 March 2022\nPaper submission opens\n\n\n28 March 2022\nPaper submission deadline (requiring assessment)\n\n\n29 April 2022\nPaper submission final deadline\n\n\n29 April 2022\nAssessed paper submission final deadline following feedback\n\n\n29 April 2022\nEarly bird registration for authors\n\n\n8 July 2022\nEarly bird registration for non-authors\n\n\n\n  \nRead more about Congress and Exposition [click here]. \n 
URL:http://xnoise.lt/index.php/renginys/inter-noise-2022-international-congress-and-exposition-on-noise-control-engineering/
CATEGORIES:Event
ATTACH;FMTTYPE=image/png:http://xnoise.lt/wp-content/uploads/2021/10/inter_noise_2022.png
END:VEVENT
END:VCALENDAR